BEGIN:VCALENDAR
VERSION:2.0
PRODID:-//Eventin//Event Calendar//EN
CALSCALE:GREGORIAN
METHOD:PUBLISH
BEGIN:VEVENT
UID:4e65b29e7f64c7a69879864a1705eca0@exploreashlandohio.com
SUMMARY:Final Friday- September "What's up Downtown!"
DESCRIPTION:
LOCATION:Downtown Ashland 
DTSTAMP:20260424T174014Z
DTSTART:20260925T210000Z
DTEND:20260925T230000Z
END:VEVENT
END:VCALENDAR
