BEGIN:VCALENDAR
VERSION:2.0
PRODID:-//Eventin//Event Calendar//EN
CALSCALE:GREGORIAN
METHOD:PUBLISH
BEGIN:VEVENT
UID:656ff84794364673d455a858aba8aaa6@exploreashlandohio.com
SUMMARY:Black Friday
DESCRIPTION:
LOCATION:Downtown Ashland
DTSTAMP:20260424T174708Z
DTSTART:20261127T150000Z
DTEND:20261127T210000Z
END:VEVENT
END:VCALENDAR
