BEGIN:VCALENDAR
VERSION:2.0
PRODID:-//Eventin//Event Calendar//EN
CALSCALE:GREGORIAN
METHOD:PUBLISH
BEGIN:VEVENT
UID:bf0066bd218ca7578d39f59847bd2ab4@exploreashlandohio.com
SUMMARY:Costume Crawl
DESCRIPTION:
LOCATION:Downtown Ashland
DTSTAMP:20260424T110833Z
DTSTART:20261030T220000Z
DTEND:20261031T020000Z
END:VEVENT
END:VCALENDAR
