BEGIN:VCALENDAR
VERSION:2.0
PRODID:-//Eventin//Event Calendar//EN
CALSCALE:GREGORIAN
METHOD:PUBLISH
BEGIN:VEVENT
UID:bc3bd301cf75a27e45613c19c5f099e5@exploreashlandohio.com
SUMMARY:Costume Capers
DESCRIPTION:
LOCATION:Downtown Ashland
DTSTAMP:20260424T111522Z
DTSTART:20261027T203000Z
DTEND:20261027T223000Z
END:VEVENT
END:VCALENDAR
