BEGIN:VCALENDAR
VERSION:2.0
PRODID:-//Eventin//Event Calendar//EN
CALSCALE:GREGORIAN
METHOD:PUBLISH
BEGIN:VEVENT
UID:c3fa06d39ce3609187818c8fd6feb1fc@exploreashlandohio.com
SUMMARY:Hidden Spaces Upstairs Tour
DESCRIPTION:
LOCATION:Downtown Ashland
DTSTAMP:20260424T174719Z
DTSTART:20260926T210000Z
DTEND:20260926T230000Z
END:VEVENT
END:VCALENDAR
