BEGIN:VCALENDAR
VERSION:2.0
PRODID:-//Eventin//Event Calendar//EN
CALSCALE:GREGORIAN
METHOD:PUBLISH
BEGIN:VEVENT
UID:4567c944c2f58da734c5b5eb97edb82f@exploreashlandohio.com
SUMMARY:Hidden Spaces Upstairs Tour
DESCRIPTION:
LOCATION:Downtown Ashland
DTSTAMP:20260424T174709Z
DTSTART:20260925T210000Z
DTEND:20260925T230000Z
END:VEVENT
END:VCALENDAR
