BEGIN:VCALENDAR
VERSION:2.0
PRODID:-//Eventin//Event Calendar//EN
CALSCALE:GREGORIAN
METHOD:PUBLISH
BEGIN:VEVENT
UID:ca19cb2df710455e86657e936a229047@exploreashlandohio.com
SUMMARY:Sip & Spell- Adult spelling bee
DESCRIPTION:
LOCATION:Downtown Ashland 
DTSTAMP:20260424T162208Z
DTSTART:20260828T220000Z
DTEND:20260829T000000Z
END:VEVENT
END:VCALENDAR
