BEGIN:VCALENDAR
VERSION:2.0
PRODID:-//Eventin//Event Calendar//EN
CALSCALE:GREGORIAN
METHOD:PUBLISH
BEGIN:VEVENT
UID:a0f200ffe4dbf5e697992e0c4700f201@exploreashlandohio.com
SUMMARY:Final Friday- July "Cruise in to Downtown!"
DESCRIPTION:
LOCATION:Downtown Ashland
DTSTAMP:20260424T174708Z
DTSTART:20260731T210000Z
DTEND:20260731T230000Z
END:VEVENT
END:VCALENDAR
