BEGIN:VCALENDAR
VERSION:2.0
PRODID:-//Eventin//Event Calendar//EN
CALSCALE:GREGORIAN
METHOD:PUBLISH
BEGIN:VEVENT
UID:b77b4756039838304ebede1564b0030f@exploreashlandohio.com
SUMMARY:6th Annual Ashland Ale Fest
DESCRIPTION:
LOCATION:Downtown Ashland
DTSTAMP:20260424T174136Z
DTSTART:20260620T080000Z
DTEND:20260620T120000Z
END:VEVENT
END:VCALENDAR
