BEGIN:VCALENDAR
VERSION:2.0
PRODID:-//Eventin//Event Calendar//EN
CALSCALE:GREGORIAN
METHOD:PUBLISH
BEGIN:VEVENT
UID:0cea105f69a1600ecfc9fbd5e7adf5ce@exploreashlandohio.com
SUMMARY:Ohio Vintage Truck Reunion
DESCRIPTION:
LOCATION:Ashland County Fairgrounds
DTSTAMP:20260424T175317Z
DTSTART:20260627T120000Z
DTEND:20260627T200000Z
END:VEVENT
END:VCALENDAR
