BEGIN:VCALENDAR
VERSION:2.0
PRODID:-//Eventin//Event Calendar//EN
CALSCALE:GREGORIAN
METHOD:PUBLISH
BEGIN:VEVENT
UID:7c9c118851b124cd8d48087753148311@exploreashlandohio.com
SUMMARY:Ashland County Fair FLEA Market &#038\; Craft Show
DESCRIPTION:
LOCATION:Ashland County Fairgrounds
DTSTAMP:20260424T175548Z
DTSTART:20261212T140000Z
DTEND:20261212T200000Z
END:VEVENT
END:VCALENDAR
