BEGIN:VCALENDAR
VERSION:2.0
PRODID:-//Eventin//Event Calendar//EN
CALSCALE:GREGORIAN
METHOD:PUBLISH
BEGIN:VEVENT
UID:f82f7a06d229849e3828436cd57e1d3b@exploreashlandohio.com
SUMMARY:Ashland County Fair FLEA Market &#038\; Craft Show
DESCRIPTION:
LOCATION:Ashland County Fairgrounds
DTSTAMP:20260424T175316Z
DTSTART:20260808T130000Z
DTEND:20260808T190000Z
END:VEVENT
END:VCALENDAR
