BEGIN:VCALENDAR
VERSION:2.0
PRODID:-//Eventin//Event Calendar//EN
CALSCALE:GREGORIAN
METHOD:PUBLISH
BEGIN:VEVENT
UID:d3e466720e3e69a3c9280fcb1ecb1c2c@exploreashlandohio.com
SUMMARY:Ashland County Fair FLEA Market &#038\; Craft Show
DESCRIPTION:
LOCATION:Ashland County Fairgrounds
DTSTAMP:20260424T175311Z
DTSTART:20260718T130000Z
DTEND:20260718T190000Z
END:VEVENT
END:VCALENDAR
