BEGIN:VCALENDAR
VERSION:2.0
PRODID:-//Eventin//Event Calendar//EN
CALSCALE:GREGORIAN
METHOD:PUBLISH
BEGIN:VEVENT
UID:aa4b70418cc4a9b7b0bf8a9516c2e7f0@exploreashlandohio.com
SUMMARY:Ashland County Fair FLEA Market &#038\; Craft Show
DESCRIPTION:
LOCATION:Ashland County Fairgrounds
DTSTAMP:20260424T175615Z
DTSTART:20260509T130000Z
DTEND:20260509T190000Z
END:VEVENT
END:VCALENDAR
