BEGIN:VCALENDAR
VERSION:2.0
PRODID:-//Eventin//Event Calendar//EN
CALSCALE:GREGORIAN
METHOD:PUBLISH
BEGIN:VEVENT
UID:3afe1a46504ad1111827efa5857dfd47@exploreashlandohio.com
SUMMARY:Bingo- American Legion Post 88
DESCRIPTION:
LOCATION:1338 Claremont Ave
DTSTAMP:20260424T174719Z
DTSTART:20261224T213000Z
DTEND:20261225T023000Z
END:VEVENT
END:VCALENDAR
