BEGIN:VCALENDAR
VERSION:2.0
PRODID:-//Eventin//Event Calendar//EN
CALSCALE:GREGORIAN
METHOD:PUBLISH
BEGIN:VEVENT
UID:59361d66b717a7dd7aa4992b3c168ba4@exploreashlandohio.com
SUMMARY:Bingo- American Legion Post 88
DESCRIPTION:
LOCATION:1338 Claremont Ave
DTSTAMP:20260424T174822Z
DTSTART:20261217T213000Z
DTEND:20261218T023000Z
END:VEVENT
END:VCALENDAR
