BEGIN:VCALENDAR
VERSION:2.0
PRODID:-//Eventin//Event Calendar//EN
CALSCALE:GREGORIAN
METHOD:PUBLISH
BEGIN:VEVENT
UID:8fe9d68b0b204f4dc648d4e372d72b78@exploreashlandohio.com
SUMMARY:Bingo- American Legion Post 88
DESCRIPTION:
LOCATION:1338 Claremont Ave
DTSTAMP:20260424T175420Z
DTSTART:20261210T213000Z
DTEND:20261211T023000Z
END:VEVENT
END:VCALENDAR
