BEGIN:VCALENDAR
VERSION:2.0
PRODID:-//Eventin//Event Calendar//EN
CALSCALE:GREGORIAN
METHOD:PUBLISH
BEGIN:VEVENT
UID:0fa107ccb7434bfae5acc9658eccb197@exploreashlandohio.com
SUMMARY:Bingo- American Legion Post 88
DESCRIPTION:
LOCATION:1338 Claremont Ave
DTSTAMP:20260424T175537Z
DTSTART:20261203T213000Z
DTEND:20261204T023000Z
END:VEVENT
END:VCALENDAR
