BEGIN:VCALENDAR
VERSION:2.0
PRODID:-//Eventin//Event Calendar//EN
CALSCALE:GREGORIAN
METHOD:PUBLISH
BEGIN:VEVENT
UID:325373f414d3baa9040823e096692d68@exploreashlandohio.com
SUMMARY:Bingo- American Legion Post 88
DESCRIPTION:
LOCATION:1338 Claremont Ave
DTSTAMP:20260424T174736Z
DTSTART:20261126T213000Z
DTEND:20261127T023000Z
END:VEVENT
END:VCALENDAR
