BEGIN:VCALENDAR
VERSION:2.0
PRODID:-//Eventin//Event Calendar//EN
CALSCALE:GREGORIAN
METHOD:PUBLISH
BEGIN:VEVENT
UID:0864ea7854b1a005adc63a0c280d463b@exploreashlandohio.com
SUMMARY:Bingo- American Legion Post 88
DESCRIPTION:
LOCATION:1338 Claremont Ave
DTSTAMP:20260424T174719Z
DTSTART:20261112T213000Z
DTEND:20261113T023000Z
END:VEVENT
END:VCALENDAR
