BEGIN:VCALENDAR
VERSION:2.0
PRODID:-//Eventin//Event Calendar//EN
CALSCALE:GREGORIAN
METHOD:PUBLISH
BEGIN:VEVENT
UID:1afe9bc8b390872b9953d20a5997eafe@exploreashlandohio.com
SUMMARY:Bingo- American Legion Post 88
DESCRIPTION:
LOCATION:1338 Claremont Ave
DTSTAMP:20260424T174707Z
DTSTART:20261105T213000Z
DTEND:20261106T023000Z
END:VEVENT
END:VCALENDAR
