BEGIN:VCALENDAR
VERSION:2.0
PRODID:-//Eventin//Event Calendar//EN
CALSCALE:GREGORIAN
METHOD:PUBLISH
BEGIN:VEVENT
UID:8c06cadc219688ee7aaa49bc96c1d428@exploreashlandohio.com
SUMMARY:Bingo- American Legion Post 88
DESCRIPTION:
LOCATION:1338 Claremont Ave
DTSTAMP:20260424T174622Z
DTSTART:20261029T203000Z
DTEND:20261030T013000Z
END:VEVENT
END:VCALENDAR
