BEGIN:VCALENDAR
VERSION:2.0
PRODID:-//Eventin//Event Calendar//EN
CALSCALE:GREGORIAN
METHOD:PUBLISH
BEGIN:VEVENT
UID:5004e8c4c485341201dffda55ee7ad79@exploreashlandohio.com
SUMMARY:Bingo- American Legion Post 88
DESCRIPTION:
LOCATION:1338 Claremont Ave
DTSTAMP:20260424T174735Z
DTSTART:20261015T203000Z
DTEND:20261016T013000Z
END:VEVENT
END:VCALENDAR
