BEGIN:VCALENDAR
VERSION:2.0
PRODID:-//Eventin//Event Calendar//EN
CALSCALE:GREGORIAN
METHOD:PUBLISH
BEGIN:VEVENT
UID:0074cd718c4d9084c0334c57f0d34fde@exploreashlandohio.com
SUMMARY:Bingo- American Legion Post 88
DESCRIPTION:
LOCATION:1338 Claremont Ave
DTSTAMP:20260424T174734Z
DTSTART:20261008T203000Z
DTEND:20261009T013000Z
END:VEVENT
END:VCALENDAR
