BEGIN:VCALENDAR
VERSION:2.0
PRODID:-//Eventin//Event Calendar//EN
CALSCALE:GREGORIAN
METHOD:PUBLISH
BEGIN:VEVENT
UID:cd6bb099b4cc95bf3b2cdc030a93f469@exploreashlandohio.com
SUMMARY:Bingo- American Legion Post 88
DESCRIPTION:
LOCATION:1338 Claremont Ave
DTSTAMP:20260424T175414Z
DTSTART:20261001T203000Z
DTEND:20261002T013000Z
END:VEVENT
END:VCALENDAR
