BEGIN:VCALENDAR
VERSION:2.0
PRODID:-//Eventin//Event Calendar//EN
CALSCALE:GREGORIAN
METHOD:PUBLISH
BEGIN:VEVENT
UID:e9198a8a3349f241a79a6a9f307fa152@exploreashlandohio.com
SUMMARY:Bingo- American Legion Post 88
DESCRIPTION:
LOCATION:1338 Claremont Ave
DTSTAMP:20260424T174610Z
DTSTART:20260917T203000Z
DTEND:20260918T013000Z
END:VEVENT
END:VCALENDAR
