BEGIN:VCALENDAR
VERSION:2.0
PRODID:-//Eventin//Event Calendar//EN
CALSCALE:GREGORIAN
METHOD:PUBLISH
BEGIN:VEVENT
UID:86e0641c3b3d7b8f34bde9bd490a57f4@exploreashlandohio.com
SUMMARY:Bingo- American Legion Post 88
DESCRIPTION:
LOCATION:1338 Claremont Ave
DTSTAMP:20260424T175402Z
DTSTART:20260910T203000Z
DTEND:20260911T013000Z
END:VEVENT
END:VCALENDAR
