BEGIN:VCALENDAR
VERSION:2.0
PRODID:-//Eventin//Event Calendar//EN
CALSCALE:GREGORIAN
METHOD:PUBLISH
BEGIN:VEVENT
UID:3141f5b10032c3cf6d770715e418d565@exploreashlandohio.com
SUMMARY:Bingo- American Legion Post 88
DESCRIPTION:
LOCATION:1338 Claremont Ave
DTSTAMP:20260424T174821Z
DTSTART:20260903T203000Z
DTEND:20260904T013000Z
END:VEVENT
END:VCALENDAR
