BEGIN:VCALENDAR
VERSION:2.0
PRODID:-//Eventin//Event Calendar//EN
CALSCALE:GREGORIAN
METHOD:PUBLISH
BEGIN:VEVENT
UID:cd79eedf05b27bab2d4b313ef60877da@exploreashlandohio.com
SUMMARY:Bingo- American Legion Post 88
DESCRIPTION:
LOCATION:1338 Claremont Ave
DTSTAMP:20260424T175640Z
DTSTART:20260827T203000Z
DTEND:20260828T013000Z
END:VEVENT
END:VCALENDAR
