BEGIN:VCALENDAR
VERSION:2.0
PRODID:-//Eventin//Event Calendar//EN
CALSCALE:GREGORIAN
METHOD:PUBLISH
BEGIN:VEVENT
UID:ebed602ed2e4963ff64fffa263a3bb74@exploreashlandohio.com
SUMMARY:Bingo- American Legion Post 88
DESCRIPTION:
LOCATION:1338 Claremont Ave
DTSTAMP:20260424T174735Z
DTSTART:20260820T203000Z
DTEND:20260821T013000Z
END:VEVENT
END:VCALENDAR
