BEGIN:VCALENDAR
VERSION:2.0
PRODID:-//Eventin//Event Calendar//EN
CALSCALE:GREGORIAN
METHOD:PUBLISH
BEGIN:VEVENT
UID:baa5635c3082a5c6b1a5e4e28e4edc1f@exploreashlandohio.com
SUMMARY:Bingo- American Legion Post 88
DESCRIPTION:
LOCATION:1338 Claremont Ave
DTSTAMP:20260424T175713Z
DTSTART:20260806T203000Z
DTEND:20260807T013000Z
END:VEVENT
END:VCALENDAR
