BEGIN:VCALENDAR
VERSION:2.0
PRODID:-//Eventin//Event Calendar//EN
CALSCALE:GREGORIAN
METHOD:PUBLISH
BEGIN:VEVENT
UID:2baec81b09c03b7ef121f2711845bc34@exploreashlandohio.com
SUMMARY:Bingo- American Legion Post 88
DESCRIPTION:
LOCATION:1338 Claremont Ave
DTSTAMP:20260424T174611Z
DTSTART:20260730T203000Z
DTEND:20260731T013000Z
END:VEVENT
END:VCALENDAR
