BEGIN:VCALENDAR
VERSION:2.0
PRODID:-//Eventin//Event Calendar//EN
CALSCALE:GREGORIAN
METHOD:PUBLISH
BEGIN:VEVENT
UID:494eca118a5b5eef1ac9c6d3ace02121@exploreashlandohio.com
SUMMARY:Bingo- American Legion Post 88
DESCRIPTION:
LOCATION:1338 Claremont Ave
DTSTAMP:20260424T175451Z
DTSTART:20260723T203000Z
DTEND:20260724T013000Z
END:VEVENT
END:VCALENDAR
