BEGIN:VCALENDAR
VERSION:2.0
PRODID:-//Eventin//Event Calendar//EN
CALSCALE:GREGORIAN
METHOD:PUBLISH
BEGIN:VEVENT
UID:663d45b2a574d1eacc4d3318d1059885@exploreashlandohio.com
SUMMARY:Bingo- American Legion Post 88
DESCRIPTION:
LOCATION:1338 Claremont Ave
DTSTAMP:20260424T175507Z
DTSTART:20260709T203000Z
DTEND:20260710T013000Z
END:VEVENT
END:VCALENDAR
