BEGIN:VCALENDAR
VERSION:2.0
PRODID:-//Eventin//Event Calendar//EN
CALSCALE:GREGORIAN
METHOD:PUBLISH
BEGIN:VEVENT
UID:63ad5e7312c62292678b6ec5eff6cff0@exploreashlandohio.com
SUMMARY:Bingo- American Legion Post 88
DESCRIPTION:
LOCATION:1338 Claremont Ave
DTSTAMP:20260424T175706Z
DTSTART:20260618T203000Z
DTEND:20260619T013000Z
END:VEVENT
END:VCALENDAR
