BEGIN:VCALENDAR
VERSION:2.0
PRODID:-//Eventin//Event Calendar//EN
CALSCALE:GREGORIAN
METHOD:PUBLISH
BEGIN:VEVENT
UID:9f8cac2a6857001b32acf7ad02b26915@exploreashlandohio.com
SUMMARY:Bingo- American Legion Post 88
DESCRIPTION:
LOCATION:1338 Claremont Ave
DTSTAMP:20260424T174721Z
DTSTART:20260528T203000Z
DTEND:20260529T013000Z
END:VEVENT
END:VCALENDAR
