BEGIN:VCALENDAR
VERSION:2.0
PRODID:-//Eventin//Event Calendar//EN
CALSCALE:GREGORIAN
METHOD:PUBLISH
BEGIN:VEVENT
UID:c003ad49c1216014289e99e7f4d27175@exploreashlandohio.com
SUMMARY:Bingo- American Legion Post 88
DESCRIPTION:
LOCATION:1338 Claremont Ave
DTSTAMP:20260424T110318Z
DTSTART:20260514T203000Z
DTEND:20260515T013000Z
END:VEVENT
END:VCALENDAR
