BEGIN:VCALENDAR
VERSION:2.0
PRODID:-//Eventin//Event Calendar//EN
CALSCALE:GREGORIAN
METHOD:PUBLISH
BEGIN:VEVENT
UID:70ef67717d9347a64d0852ec98313c4e@exploreashlandohio.com
SUMMARY:Bingo- American Legion Post 88
DESCRIPTION:
LOCATION:1338 Claremont Ave
DTSTAMP:20260424T111154Z
DTSTART:20260507T203000Z
DTEND:20260508T013000Z
END:VEVENT
END:VCALENDAR
