BEGIN:VCALENDAR
VERSION:2.0
PRODID:-//Eventin//Event Calendar//EN
CALSCALE:GREGORIAN
METHOD:PUBLISH
BEGIN:VEVENT
UID:2d6b58598b83b544ca5723e821bcacbf@exploreashlandohio.com
SUMMARY:Bingo- American Legion Post 88
DESCRIPTION:
LOCATION:1338 Claremont Ave
DTSTAMP:20260424T111724Z
DTSTART:20260430T203000Z
DTEND:20260501T013000Z
END:VEVENT
END:VCALENDAR
