BEGIN:VCALENDAR
VERSION:2.0
PRODID:-//Eventin//Event Calendar//EN
CALSCALE:GREGORIAN
METHOD:PUBLISH
BEGIN:VEVENT
UID:d5716788895dc40c9fb7d065f7f73d20@exploreashlandohio.com
SUMMARY:Ceramic Pumpkin Patch Festival
DESCRIPTION:
LOCATION:Ashland County Fairgrounds
DTSTAMP:20260424T174112Z
DTSTART:20260912T150000Z
DTEND:20260912T200000Z
END:VEVENT
END:VCALENDAR
