BEGIN:VCALENDAR
VERSION:2.0
PRODID:-//Eventin//Event Calendar//EN
CALSCALE:GREGORIAN
METHOD:PUBLISH
BEGIN:VEVENT
UID:78fb19ce5cbc4f5d2760b2aba8412d06@exploreashlandohio.com
SUMMARY:The NE Ohio Quilt Show
DESCRIPTION:
LOCATION:John C Myers Convocation Center 
DTSTAMP:20260424T174111Z
DTSTART:20260723T130000Z
DTEND:20260725T200000Z
END:VEVENT
END:VCALENDAR
