BEGIN:VCALENDAR
VERSION:2.0
PRODID:-//Eventin//Event Calendar//EN
CALSCALE:GREGORIAN
METHOD:PUBLISH
BEGIN:VEVENT
UID:7073f3aedc2dba92eba7d8a3cc58ab25@exploreashlandohio.com
SUMMARY:America’s 250th Parade in Ashland Ohio
DESCRIPTION:
LOCATION:Downtown Ashland
DTSTAMP:20260424T174707Z
DTSTART:20260704T140000Z
DTEND:20260704T160000Z
END:VEVENT
END:VCALENDAR
